BEGIN:VCALENDAR
VERSION:2.0
PRODID:https://www.kufer.de/kuferweb / DE
METHOD:PUBLISH
CALSCALE:GREGORIAN
X-WR-TIMEZONE:Europe/Berlin
BEGIN:VTIMEZONE
TZID:Europe/Berlin
X-LIC-LOCATION:Europe/Berlin
BEGIN:DAYLIGHT
TZOFFSETFROM:+0100
TZOFFSETTO:+0200
TZNAME:CEST
DTSTART:19700329T020000
RRULE:FREQ=YEARLY;INTERVAL=1;BYDAY=-1SU;BYMONTH=3
END:DAYLIGHT
BEGIN:STANDARD
TZOFFSETFROM:+0200
TZOFFSETTO:+0100
TZNAME:CET
DTSTART:19701025T030000
RRULE:FREQ=YEARLY;INTERVAL=1;BYDAY=-1SU;BYMONTH=10
END:STANDARD
END:VTIMEZONE
BEGIN:VEVENT
DTSTAMP:20260420T095951
DTSTART;TZID=Europe/Berlin:20260505T190000
DTEND;TZID=Europe/Berlin:20260505T203000
UID:NA1301A-20260505T190000@VHSFRIEDRICHSHAFEN
SUMMARY:Entdecken Sie die Kunst der Raumgestaltung! - Online (NA1301A) 
LOCATION:Online, 00000
END:VEVENT
BEGIN:VEVENT
DTSTAMP:20260420T095951
DTSTART;TZID=Europe/Berlin:20260512T190000
DTEND;TZID=Europe/Berlin:20260512T203000
UID:NA1301A-20260512T190000@VHSFRIEDRICHSHAFEN
SUMMARY:Entdecken Sie die Kunst der Raumgestaltung! - Online (NA1301A) 
LOCATION: online
END:VEVENT
BEGIN:VEVENT
DTSTAMP:20260420T095951
DTSTART;TZID=Europe/Berlin:20260519T190000
DTEND;TZID=Europe/Berlin:20260519T203000
UID:NA1301A-20260519T190000@VHSFRIEDRICHSHAFEN
SUMMARY:Entdecken Sie die Kunst der Raumgestaltung! - Online (NA1301A) 
LOCATION: online
END:VEVENT
BEGIN:VEVENT
DTSTAMP:20260420T095951
DTSTART;TZID=Europe/Berlin:20260526T190000
DTEND;TZID=Europe/Berlin:20260526T203000
UID:NA1301A-20260526T190000@VHSFRIEDRICHSHAFEN
SUMMARY:Entdecken Sie die Kunst der Raumgestaltung! - Online (NA1301A) 
LOCATION: online
END:VEVENT
END:VCALENDAR