BEGIN:VCALENDAR
VERSION:2.0
PRODID:https://www.kufer.de/kuferweb / DE
METHOD:PUBLISH
CALSCALE:GREGORIAN
X-WR-TIMEZONE:Europe/Berlin
BEGIN:VTIMEZONE
TZID:Europe/Berlin
X-LIC-LOCATION:Europe/Berlin
BEGIN:DAYLIGHT
TZOFFSETFROM:+0100
TZOFFSETTO:+0200
TZNAME:CEST
DTSTART:19700329T020000
RRULE:FREQ=YEARLY;INTERVAL=1;BYDAY=-1SU;BYMONTH=3
END:DAYLIGHT
BEGIN:STANDARD
TZOFFSETFROM:+0200
TZOFFSETTO:+0100
TZNAME:CET
DTSTART:19701025T030000
RRULE:FREQ=YEARLY;INTERVAL=1;BYDAY=-1SU;BYMONTH=10
END:STANDARD
END:VTIMEZONE
BEGIN:VEVENT
DTSTAMP:20260420T145311
DTSTART;TZID=Europe/Berlin:20260617T183000
DTEND;TZID=Europe/Berlin:20260617T200000
UID:NA1305-20260617T183000@VHSFRIEDRICHSHAFEN
SUMMARY:Schach für Einsteiger (NA1305) 
LOCATION:Schachraum Schachclub FN, Ailingerstraße 38/1 (Vereinehaus Spektru
END:VEVENT
BEGIN:VEVENT
DTSTAMP:20260420T145311
DTSTART;TZID=Europe/Berlin:20260624T183000
DTEND;TZID=Europe/Berlin:20260624T200000
UID:NA1305-20260624T183000@VHSFRIEDRICHSHAFEN
SUMMARY:Schach für Einsteiger (NA1305) 
LOCATION:Schachraum Schachclub FN, Ailingerstraße 38/1 (Vereinehaus Spektru
END:VEVENT
BEGIN:VEVENT
DTSTAMP:20260420T145311
DTSTART;TZID=Europe/Berlin:20260701T183000
DTEND;TZID=Europe/Berlin:20260701T200000
UID:NA1305-20260701T183000@VHSFRIEDRICHSHAFEN
SUMMARY:Schach für Einsteiger (NA1305) 
LOCATION:Schachraum Schachclub FN, Ailingerstraße 38/1 (Vereinehaus Spektru
END:VEVENT
BEGIN:VEVENT
DTSTAMP:20260420T145311
DTSTART;TZID=Europe/Berlin:20260708T183000
DTEND;TZID=Europe/Berlin:20260708T200000
UID:NA1305-20260708T183000@VHSFRIEDRICHSHAFEN
SUMMARY:Schach für Einsteiger (NA1305) 
LOCATION:Schachraum Schachclub FN, Ailingerstraße 38/1 (Vereinehaus Spektru
END:VEVENT
BEGIN:VEVENT
DTSTAMP:20260420T145311
DTSTART;TZID=Europe/Berlin:20260715T183000
DTEND;TZID=Europe/Berlin:20260715T200000
UID:NA1305-20260715T183000@VHSFRIEDRICHSHAFEN
SUMMARY:Schach für Einsteiger (NA1305) 
LOCATION:Schachraum Schachclub FN, Ailingerstraße 38/1 (Vereinehaus Spektru
END:VEVENT
END:VCALENDAR